BEGIN:VCALENDAR
PRODID:-//Schulich School of Law//Events Calendar//EN
VERSION:2.0
CALSCALE:GREGORIAN
BEGIN:VEVENT
DTSTAMP:20260421T191955Z
DTSTART:20251024T151000Z
DTEND:20251024T162000Z
SUMMARY:Dalhousie Health Justice Institute Seminar Series: Making the Technical Political – The Long Road to the Pandemic Agreement
DESCRIPTION:This session will be led by Roojin Habibi\, an assistant professor in the Faculty of Law (Common Law Section) at the University of Ottawa.\n\nCost: This is a free public lecture.\nNo registration is required.\n\nAdditional Information: Light refreshments will be provided in the same room as the lecture.\nVisit the Dalhousie Health Justice Institute's Seminar Series website for more information on upcoming events.\n\nContact Information: dhji@dal.ca
LOCATION:Weldon Law Building\, Room W104\n6061 University Ave.
URL:https://www.dal.ca/faculty/law/news-events/events/2025/10/24/DalhousieHealthJusticeSeminarSeries.html
UID:https://www.dal.ca/faculty/law/news-events/events/2025/10/24/DalhousieHealthJusticeSeminarSeries/_jcr_content/contentPar/dcalfacultyevent.html
END:VEVENT
END:VCALENDAR
