BEGIN:VCALENDAR
PRODID:-//Schulich School of Law//Events Calendar//EN
VERSION:2.0
CALSCALE:GREGORIAN
BEGIN:VEVENT
DTSTAMP:20260422T000849Z
DTSTART:20251022T153000Z
DTEND:20251022T163000Z
SUMMARY:Research Hour with Schulich Law's Teaching and Learning Committee
DESCRIPTION:This seminar will be led by the Schulich School of Law's Teaching and Learning Committee and will include a faculty discussion about AI and its impact on teaching.\nThis session is for faculty and graduate students only.\n\nContact Information: law.research@dal.ca
LOCATION:Weldon Law Building\, Faculty Lounge\, Room W312
URL:https://www.dal.ca/faculty/law/news-events/events/2025/10/22/research_hour.html
UID:https://www.dal.ca/faculty/law/news-events/events/2025/10/22/research_hour/_jcr_content/contentPar/dcalfacultyevent.html
END:VEVENT
END:VCALENDAR
