BEGIN:VCALENDAR
PRODID:-//Schulich School of Law//Events Calendar//EN
VERSION:2.0
CALSCALE:GREGORIAN
BEGIN:VEVENT
DTSTAMP:20260421T192000Z
DTSTART:20251017T151000Z
DTEND:20251017T162000Z
SUMMARY:Dalhousie Health Justice Institute Seminar Series: Not Lawless at all – Abortion in Canada
DESCRIPTION:This session will be led by Dr. Martha Paynter\, an associate professor in the Faculty of Nursing at the University of New Brunswick.\n\nCost: This is a free public lecture.\nNo registration is required.\n\nAdditional Information: Light refreshments will be provided in the same room as the lecture.\nVisit the Dalhousie Health Justice Institute's Seminar Series website for more information on upcoming events.\n\nContact Information: dhji@dal.ca
LOCATION:Weldon Law Building\, Room W104\n6061 University Ave.
URL:https://www.dal.ca/faculty/law/news-events/events/2025/10/17/DalhousieHealthJusticeSeminarSeries.html
UID:https://www.dal.ca/faculty/law/news-events/events/2025/10/17/DalhousieHealthJusticeSeminarSeries/_jcr_content/contentPar/dcalfacultyevent.html
END:VEVENT
END:VCALENDAR
