BEGIN:VCALENDAR
PRODID:-//Schulich School of Law//Events Calendar//EN
VERSION:2.0
CALSCALE:GREGORIAN
BEGIN:VEVENT
DTSTAMP:20260421T152024Z
DTSTART:20251016T153000Z
DTEND:20251016T163000Z
SUMMARY:Law Hour: Listening\, Learning & Litigating – Reflections on Practicing Aboriginal Law
DESCRIPTION:Law Hour is pleased to collaborate with Schulich Law's Truth and Reconciliation Commission of Canada (TRC) Implementation Committee for this week's session\, 'Listening\, Learning & Litigating: Reflections on Practicing Aboriginal Law' with law school alumnus Brian Hebert (LLB '88)\, partner at McKiggan Hebert Lawyers.\nFollow Dalhousie Law Hour on Instagram to stay up to date on future Law Hour events.\n\nContact Information: lawhour@dal.ca
LOCATION:Weldon Law Building\, Room W105
URL:https://www.dal.ca/faculty/law/news-events/events/2025/10/16/law_hour.html
UID:https://www.dal.ca/faculty/law/news-events/events/2025/10/16/law_hour/_jcr_content/contentPar/dcalfacultyevent.html
END:VEVENT
END:VCALENDAR
