BEGIN:VCALENDAR
PRODID:-//Schulich School of Law//Events Calendar//EN
VERSION:2.0
CALSCALE:GREGORIAN
BEGIN:VEVENT
DTSTAMP:20260422T002611Z
DTSTART:20251013T030000Z
DTEND:20251014T024500Z
SUMMARY:Thanksgiving Day – University Closed
DESCRIPTION:Please note the university is closed today in accordance with the Thanksgiving holiday.
URL:https://www.dal.ca/faculty/law/news-events/events/2025/10/13/thanksgiving_day.html
UID:https://www.dal.ca/faculty/law/news-events/events/2025/10/13/thanksgiving_day/_jcr_content/contentPar/dcalfacultyevent.html
END:VEVENT
END:VCALENDAR
