BEGIN:VCALENDAR
PRODID:-//Schulich School of Law//Events Calendar//EN
VERSION:2.0
CALSCALE:GREGORIAN
BEGIN:VEVENT
DTSTAMP:20260421T152026Z
DTSTART:20251009T153000Z
DTEND:20251009T163000Z
SUMMARY:Law Hour: Age Gating the Internet – Online Safety\, Children's Welfare\, and Freedom of Expression (Original Time & Location)
DESCRIPTION:Law Hour is pleased to host a panel discussion with Associate Professor Michael Karanicolas\, James S. Palmer Chair in Public Policy and Law\, on the topic of privacy law. \nThe panel will feature:\n\nThe Honourable Iain Rankin\, MLA for Timberlea-Prospect and former Premier of Nova Scotia\nDr. Val Webber\, postdoctoral fellow\, Sexual Health and Gender Lab\, Dalhousie University\nAssistant Professor Suzie Dunn\, interim director\, Law & Technology Institute\, Schulich School of Law\n\nFollow Dalhousie Law Hour on Instagram to stay up to date on future Law Hour events.\n\nAdditional Information: Please note that Law Hour has changed back to its typical time and location.\nPizza will be provided.\n\nContact Information: lawhour@dal.ca
LOCATION:Weldon Law Building\, Room W105
URL:https://www.dal.ca/faculty/law/news-events/events/2025/10/09/law_hour.html
UID:https://www.dal.ca/faculty/law/news-events/events/2025/10/09/law_hour/_jcr_content/contentPar/dcalfacultyevent.html
END:VEVENT
END:VCALENDAR
