BEGIN:VCALENDAR
PRODID:-//Schulich School of Law//Events Calendar//EN
VERSION:2.0
CALSCALE:GREGORIAN
BEGIN:VEVENT
DTSTAMP:20260421T221704Z
DTSTART:20251008T153000Z
DTEND:20251008T163000Z
SUMMARY:Research Hour: ROMEO and Dal's Grant Submission Process
DESCRIPTION:This week’s Research Hour topic is ROMEO and Dalhousie's grant submission process\, hosted by Jaq-Lin Larder from the Office of Research Services.\nThis session is for faculty and graduate students only.\n\nContact Information: law.research@dal.ca
LOCATION:Weldon Law Building\, Faculty Lounge\, Room W312
URL:https://www.dal.ca/faculty/law/news-events/events/2025/10/08/research_hour.html
UID:https://www.dal.ca/faculty/law/news-events/events/2025/10/08/research_hour/_jcr_content/contentPar/dcalfacultyevent.html
END:VEVENT
END:VCALENDAR
