BEGIN:VCALENDAR
PRODID:-//Schulich School of Law//Events Calendar//EN
VERSION:2.0
CALSCALE:GREGORIAN
BEGIN:VEVENT
DTSTAMP:20260420T063314Z
DTSTART:20250925T153000Z
DTEND:20250925T163000Z
SUMMARY:Law Hour
DESCRIPTION:Please check back for details on the topic and speaker for today's Law Hour session.\nFollow Dalhousie Law Hour on Instagram to stay up to date on future Law Hour events.\n\nContact Information: lawhour@dal.ca
LOCATION:Weldon Law Building\, Room W105
URL:https://www.dal.ca/faculty/law/news-events/events/2025/09/25/law_hour.html
UID:https://www.dal.ca/faculty/law/news-events/events/2025/09/25/law_hour/_jcr_content/contentPar/dcalfacultyevent.html
END:VEVENT
END:VCALENDAR
