BEGIN:VCALENDAR
PRODID:-//Schulich School of Law//Events Calendar//EN
VERSION:2.0
CALSCALE:GREGORIAN
BEGIN:VEVENT
DTSTAMP:20260419T202803Z
DTSTART:20250919T151000Z
DTEND:20250919T162000Z
SUMMARY:(Cancelled) Dalhousie Health Justice Institute Seminar Series: It's Not a Policing Matter – Decriminalizing Mental Health Crises
DESCRIPTION:Please note: due to the current labour disruption at Dalhousie University\, this session has been cancelled.\nThis session will be led by Dr. Jamie Livingston\, an associate professor in the Department of Criminology at Saint Mary's University.\n\nCost: This is a free public lecture.\nNo registration is required.\n\nAdditional Information: Light refreshments will be provided in the same room as the lecture.\nVisit the Dalhousie Health Justice Institute's Seminar Series website for more information on upcoming events.\n\nContact Information: dhji@dal.ca
LOCATION:Weldon Law Building\, Room W104\n6061 University Ave.
URL:https://www.dal.ca/faculty/law/news-events/events/2025/09/19/DalhousieHealthJusticeSeminarSeries.html
UID:https://www.dal.ca/faculty/law/news-events/events/2025/09/19/DalhousieHealthJusticeSeminarSeries/_jcr_content/contentPar/dcalfacultyevent.html
END:VEVENT
END:VCALENDAR
