BEGIN:VCALENDAR
PRODID:-//Schulich School of Law//Events Calendar//EN
VERSION:2.0
CALSCALE:GREGORIAN
BEGIN:VEVENT
DTSTAMP:20260419T063412Z
DTSTART:20250911T153000Z
DTEND:20250911T163000Z
SUMMARY:Law Hour with the Honourable Wanda Thomas Bernard
DESCRIPTION:Law Hour is pleased to collaborate with Pro Bono Dalhousie to invite you to a talk with the Honourable Wanda Thomas Bernard\, Senator for Nova Scotia.\nPlease check back for details on the topic.\n\n\nFollow Dalhousie Law Hour on Instagram to stay up to date on future Law Hour events.\n\nContact Information: lawhour@dal.ca
LOCATION:Weldon Law Building\, Room W105
URL:https://www.dal.ca/faculty/law/news-events/events/2025/09/11/law_hour1.html
UID:https://www.dal.ca/faculty/law/news-events/events/2025/09/11/law_hour1/_jcr_content/contentPar/dcalfacultyevent.html
END:VEVENT
END:VCALENDAR
