BEGIN:VCALENDAR
PRODID:-//Faculty of Agriculture//Events Calendar//EN
VERSION:2.0
CALSCALE:GREGORIAN
BEGIN:VEVENT
DTSTAMP:20260419T214544Z
DTSTART:20251017T150000Z
DTEND:20251017T190000Z
SUMMARY:College Royal
DESCRIPTION:College Royal celebrates the long-standing tradition of agricultural \nshowmanship while celebrating the unique culture of the campus.  \n\nDemonstrations include livestock handling skills\, knowledge of \nagricultural plants and the ever-popular Farmers' Olympics. \nThe event is\na testament to generations of students\, dedicated to maintaining the \nculture of animal-husbandry and health\, while continuing to improve \npublic awareness of agricultural issues.\nHead to the campus farm to watch students\, staff and faculty compete.\n\nAdditional Information: No registration required\n\nContact Information: patricia.jeffcock@dal.ca
LOCATION:Dal AC Campus Farm
URL:https://www.dal.ca/faculty/agriculture/news-events/events/2025/10/17/college_royal.html
UID:https://www.dal.ca/faculty/agriculture/news-events/events/2025/10/17/college_royal/_jcr_content/contentPar/dcalfacultyevent.html
END:VEVENT
END:VCALENDAR
